BEGIN:VCALENDAR
VERSION:2.0
CALSCALE:GREGORIAN
PRODID:-//Diputació de Barcelona//DibaCMS//EN
BEGIN:VEVENT
UID:3577
DTSTAMP:20260422T145959
DTSTART:20180309T200000
DTEND:20180309T200000
SUMMARY:XIè Concurs de cuina 
LOCATION:C/ Josep Fornell, s/n 08231 Ullastrell
METHOD:PUBLISH
X-WR-CALNAME:ullastrell@ullastrell.cat
X-WR-TIMEZONE:Europe/Madrid
DESCRIPTION:Degustació dels plats que es presenten a concurs

Categories:


	Plat salat
	Plat dolç
	Plat proximitat
	Millor presentació
	Infantil


Premis:


	Sopar 2 persones al Taiet
	Sopar 2 persones al Bar Casal
	Sopar 2 persones al Racó d'Ullastrell
	Panera productes d'Ullastrell - AMEU
	Esti de cuina per infantil


URI:https://www.ullastrell.cat/actualitat/agenda/xie-concurs-de-cuina-.html
CLASS:PUBLIC
END:VEVENT
END:VCALENDAR
