BEGIN:VCALENDAR
VERSION:2.0
CALSCALE:GREGORIAN
PRODID:-//Diputació de Barcelona//DibaCMS//EN
BEGIN:VEVENT
UID:3578
DTSTAMP:20260423T064831
DTSTART:20180310T170000
DTEND:20180310T200000
SUMMARY:TARDA DE JOCS 
LOCATION:Carrer Serra 
METHOD:PUBLISH
X-WR-CALNAME:ullastrell@ullastrell.cat
X-WR-TIMEZONE:Europe/Madrid
DESCRIPTION:Jocs infantils a càrrec de TocToc Jocs

i pels més menuts a càrrec de l'AMPA El Cucut

i berenat popular ofert per l'Ajuntament

URI:https://www.ullastrell.cat/actualitat/agenda/tarda-de-jocs-.html
CLASS:PUBLIC
END:VEVENT
END:VCALENDAR
