BEGIN:VCALENDAR
VERSION:2.0
CALSCALE:GREGORIAN
PRODID:-//Diputació de Barcelona//DibaCMS//EN
BEGIN:VEVENT
UID:3579
DTSTAMP:20260423T104221
DTSTART:20180310T120000
DTEND:20180310T230000
SUMMARY:Iª FIRA CERVESA ARTESANA
LOCATION:Gimnas Vell (Pl. de les Escoles) 
METHOD:PUBLISH
X-WR-CALNAME:ullastrell@ullastrell.cat
X-WR-TIMEZONE:Europe/Madrid
DESCRIPTION:Organitza:Tr3tze cervesa artesana

URI:https://www.ullastrell.cat/actualitat/agenda/ia-fira-cervesa-artesana.html
CLASS:PUBLIC
END:VEVENT
END:VCALENDAR
