BEGIN:VCALENDAR
VERSION:2.0
CALSCALE:GREGORIAN
PRODID:-//Diputació de Barcelona//DibaCMS//EN
BEGIN:VEVENT
UID:3580
DTSTAMP:20260422T233241
DTSTART:20180311T090000
DTEND:20180311T150000
SUMMARY:XIII FIRA DE SERRALAVELLA 
LOCATION:Carrer de la Serra 
METHOD:PUBLISH
X-WR-CALNAME:ullastrell@ullastrell.cat
X-WR-TIMEZONE:Europe/Madrid
DESCRIPTION:Firaires i artesans, tan locals com d'altres poblacions, tindran lloc a la XIII Fira de Serralavella

URI:https://www.ullastrell.cat/actualitat/agenda/xiii-fira-de-serralavella-.html
CLASS:PUBLIC
END:VEVENT
END:VCALENDAR
