BEGIN:VCALENDAR
VERSION:2.0
CALSCALE:GREGORIAN
PRODID:-//Diputació de Barcelona//DibaCMS//EN
BEGIN:VEVENT
UID:3581
DTSTAMP:20260423T035012
DTSTART:20180311T110000
DTEND:20180311T110000
SUMMARY:XXIII TROBADA GEGANTERA
LOCATION:Carrer de la Serra 
METHOD:PUBLISH
X-WR-CALNAME:ullastrell@ullastrell.cat
X-WR-TIMEZONE:Europe/Madrid
DESCRIPTION:Trobada amb les Colles:

Geganters de Cabrils, Montblanc, Calafell, Taradell, Gironella, Ribes de Freser, Poblenou de Barcelona, Sant Feliu de Guíxols i els d'Ullastrell!!

URI:https://www.ullastrell.cat/actualitat/agenda/xxiii-trobada-gegantera.html
CLASS:PUBLIC
END:VEVENT
END:VCALENDAR
