BEGIN:VCALENDAR
VERSION:2.0
CALSCALE:GREGORIAN
PRODID:-//Diputació de Barcelona//DibaCMS//EN
BEGIN:VEVENT
UID:3582
DTSTAMP:20260423T091624
DTSTART:20180311T113000
DTEND:20180311T113000
SUMMARY:VIè Concurs de Serrar Troncs
LOCATION:Pl. Lluís Companys 
METHOD:PUBLISH
X-WR-CALNAME:ullastrell@ullastrell.cat
X-WR-TIMEZONE:Europe/Madrid
DESCRIPTION:Concurs de serrar un tronc, guanya qui el serri en menor tempos possible.

URI:https://www.ullastrell.cat/actualitat/agenda/vie-concurs-de-serrar-troncs.html
CLASS:PUBLIC
END:VEVENT
END:VCALENDAR
