BEGIN:VCALENDAR
VERSION:2.0
CALSCALE:GREGORIAN
PRODID:-//Diputació de Barcelona//DibaCMS//EN
BEGIN:VEVENT
UID:3583
DTSTAMP:20260423T045902
DTSTART:20180311T113000
DTEND:20180311T113000
SUMMARY:TASTETS DE MÚSICA EN DIRECTE
LOCATION:
METHOD:PUBLISH
X-WR-CALNAME:ullastrell@ullastrell.cat
X-WR-TIMEZONE:Europe/Madrid
DESCRIPTION:L'entitat U-sònica organitza aquestes intervencions musicals de curta durada

URI:https://www.ullastrell.cat/actualitat/agenda/tastets-de-musica-en-directe.html
CLASS:PUBLIC
END:VEVENT
END:VCALENDAR
