BEGIN:VCALENDAR
VERSION:2.0
CALSCALE:GREGORIAN
PRODID:-//Diputació de Barcelona//DibaCMS//EN
BEGIN:VEVENT
UID:3584
DTSTAMP:20260423T045928
DTSTART:20180316T191500
DTEND:20180316T191500
SUMMARY:COL.LOQUI AMB CARME FORCADELL
LOCATION:C/ Josep Fornell, s/n 08231 Ullastrell
METHOD:PUBLISH
X-WR-CALNAME:ullastrell@ullastrell.cat
X-WR-TIMEZONE:Europe/Madrid
DESCRIPTION:ANC Ullastrell organitza aquesta xerrada "Catalunya avui" a la Sala d'Actes del Casal Cultural.

Passi de fotos del'1 octubre a Ullastrell

Acte de suport als presos polítics

Org. Ullastrell per la independència

URI:https://www.ullastrell.cat/actualitat/agenda/colloqui-amb-carme-forcadell.html
CLASS:PUBLIC
END:VEVENT
END:VCALENDAR
