BEGIN:VCALENDAR
VERSION:2.0
CALSCALE:GREGORIAN
PRODID:-//Diputació de Barcelona//DibaCMS//EN
BEGIN:VEVENT
UID:3585
DTSTAMP:20260423T051823
DTSTART:20180321T100000
DTEND:20180321T100000
SUMMARY:La Colla de la Gent Gran - Excursió a Manresa
LOCATION:
METHOD:PUBLISH
X-WR-CALNAME:ullastrell@ullastrell.cat
X-WR-TIMEZONE:Europe/Madrid
DESCRIPTION:Sortida mensual de l'entitat local, La Colla de la Gent Gran.

URI:https://www.ullastrell.cat/actualitat/agenda/la-colla-de-la-gent-gran-excursio-a-manresa.html
CLASS:PUBLIC
END:VEVENT
END:VCALENDAR
