BEGIN:VCALENDAR
VERSION:2.0
CALSCALE:GREGORIAN
PRODID:-//Diputació de Barcelona//DibaCMS//EN
BEGIN:VEVENT
UID:3586
DTSTAMP:20260423T153439
DTSTART:20180322T170000
DTEND:20180322T170000
SUMMARY:Xerrada informativa amb Montse Avilés
LOCATION:L'Altell del Casal Cultural 
METHOD:PUBLISH
X-WR-CALNAME:ullastrell@ullastrell.cat
X-WR-TIMEZONE:Europe/Madrid
DESCRIPTION:La Colla de la Gent Gran us convida a venir a la xerrada que oferirà la farmacéutica local, la Montse Avilés.

URI:https://www.ullastrell.cat/actualitat/agenda/xerrada-informativa-amb-montse-aviles.html
CLASS:PUBLIC
END:VEVENT
END:VCALENDAR
