BEGIN:VCALENDAR
VERSION:2.0
CALSCALE:GREGORIAN
PRODID:-//Diputació de Barcelona//DibaCMS//EN
BEGIN:VEVENT
UID:3587
DTSTAMP:20260423T120131
DTSTART:20180325T110000
DTEND:20180325T140000
SUMMARY:Vermut - Audició de vinils: Led Zeppelin
LOCATION:C/ Serra 37 08231 Ullastrell
METHOD:PUBLISH
X-WR-CALNAME:ullastrell@ullastrell.cat
X-WR-TIMEZONE:Europe/Madrid
DESCRIPTION:L'entitat local U-sònica, us convida a assistir als vermuts musicals a El Progrés.

URI:https://www.ullastrell.cat/actualitat/agenda/vermut-audicio-de-vinils-led-zeppelin.html
CLASS:PUBLIC
END:VEVENT
END:VCALENDAR
