BEGIN:VCALENDAR
VERSION:2.0
CALSCALE:GREGORIAN
PRODID:-//Diputació de Barcelona//DibaCMS//EN
BEGIN:VEVENT
UID:3588
DTSTAMP:20260422T191127
DTSTART:20180418T200000
DTEND:20180418T200000
SUMMARY:Ple Ordinari
LOCATION:C/ Serra, 17 08231 Ullastrell
METHOD:PUBLISH
X-WR-CALNAME:ullastrell@ullastrell.cat
X-WR-TIMEZONE:Europe/Madrid
DESCRIPTION:Ple de l'Ajuntament d'Ullastrell, obert a tothom.

Recorda que si no hi pots assistir de públic el pots veure en directe pel canal de You Tube de l'Ajuntament.

URI:https://www.ullastrell.cat/actualitat/agenda/3588-ple-ordinari.html
CLASS:PUBLIC
END:VEVENT
END:VCALENDAR
