BEGIN:VCALENDAR
VERSION:2.0
CALSCALE:GREGORIAN
PRODID:-//Diputació de Barcelona//DibaCMS//EN
BEGIN:VEVENT
UID:3591
DTSTAMP:20260423T064743
DTSTART:20180317T120000
DTEND:20180318T140000
SUMMARY:Exposició dibuixos: SKETCHERS
LOCATION:C/ Serra 37 08231 Ullastrell
METHOD:PUBLISH
X-WR-CALNAME:ullastrell@ullastrell.cat
X-WR-TIMEZONE:Europe/Madrid
DESCRIPTION:Veniu a visitar l'exposició de dibuixos realitzats al mes de gener en el marc de la Fira de l'Oli d'Ullastrell pels membres de USK Terrassa.

Obert dissabte 17 i diumenge 18 de 12h.a 14h.

URI:https://www.ullastrell.cat/actualitat/agenda/exposicio-dibuixos-sketchers.html
CLASS:PUBLIC
END:VEVENT
END:VCALENDAR
