BEGIN:VCALENDAR
VERSION:2.0
CALSCALE:GREGORIAN
PRODID:-//Diputació de Barcelona//DibaCMS//EN
BEGIN:VEVENT
UID:3593
DTSTAMP:20260423T103725
DTSTART:20180320T120000
DTEND:20180320T130000
SUMMARY:Oficina mòbil d'atenció al Consumidor
LOCATION:
METHOD:PUBLISH
X-WR-CALNAME:ullastrell@ullastrell.cat
X-WR-TIMEZONE:Europe/Madrid
DESCRIPTION:servei gratuït de la Diputació de Barcelona



URI:https://www.ullastrell.cat/actualitat/agenda/oficina-mobil-datencio-al-consumidor.html
CLASS:PUBLIC
END:VEVENT
END:VCALENDAR
