BEGIN:VCALENDAR
VERSION:2.0
CALSCALE:GREGORIAN
PRODID:-//Diputació de Barcelona//DibaCMS//EN
BEGIN:VEVENT
UID:3597
DTSTAMP:20260422T133856
DTSTART:20180325T123000
DTEND:20180325T133000
SUMMARY:Missa i benedicció de Rams a la Pl. de l'Església
LOCATION:Plaça de l'església, 2 08231 Ullastrell
METHOD:PUBLISH
X-WR-CALNAME:ullastrell@ullastrell.cat
X-WR-TIMEZONE:Europe/Madrid
DESCRIPTION:
URI:https://www.ullastrell.cat/actualitat/agenda/missa-i-benediccio-de-rams-a-la-pl-de-lesglesia.html
CLASS:PUBLIC
END:VEVENT
END:VCALENDAR
