BEGIN:VCALENDAR
VERSION:2.0
CALSCALE:GREGORIAN
PRODID:-//Diputació de Barcelona//DibaCMS//EN
BEGIN:VEVENT
UID:3599
DTSTAMP:20260422T115849
DTSTART:20180330T203000
DTEND:20180330T203000
SUMMARY:Via Crucis pels carrers del poble
LOCATION:Plaça de l'església, 2 08231 Ullastrell
METHOD:PUBLISH
X-WR-CALNAME:ullastrell@ullastrell.cat
X-WR-TIMEZONE:Europe/Madrid
DESCRIPTION:Processó del Via Crucis que surt de l'església i passa pels carrers del nucli urbà on hi hauran les diferents estacions. Finalitza a l'església. 

URI:https://www.ullastrell.cat/actualitat/agenda/3599-via-crucis-pels-carrers-del-poble.html
CLASS:PUBLIC
END:VEVENT
END:VCALENDAR
