BEGIN:VCALENDAR
VERSION:2.0
CALSCALE:GREGORIAN
PRODID:-//Diputació de Barcelona//DibaCMS//EN
BEGIN:VEVENT
UID:3600
DTSTAMP:20260422T162849
DTSTART:20180322T180000
DTEND:20180322T200000
SUMMARY:Missa i Vetlla
LOCATION:Plaça de l'església, 2 08231 Ullastrell
METHOD:PUBLISH
X-WR-CALNAME:ullastrell@ullastrell.cat
X-WR-TIMEZONE:Europe/Madrid
DESCRIPTION:
URI:https://www.ullastrell.cat/actualitat/agenda/3600-missa-i-vetlla.html
CLASS:PUBLIC
END:VEVENT
END:VCALENDAR
