BEGIN:VCALENDAR
VERSION:2.0
CALSCALE:GREGORIAN
PRODID:-//Diputació de Barcelona//DibaCMS//EN
BEGIN:VEVENT
UID:3603
DTSTAMP:20260422T162701
DTSTART:20180404T190000
DTEND:20180404T200000
SUMMARY:El cafè de la memòria 
LOCATION:L'Altell del Casal 
METHOD:PUBLISH
X-WR-CALNAME:ullastrell@ullastrell.cat
X-WR-TIMEZONE:Europe/Madrid
DESCRIPTION:Aquesta vegada entre tots recordarem les populars  "Anades a Montserrat a peu". Parlarem de quan van començar i quina ha estat l'evolució d'aquesta tradició en el nostre poble. 

URI:https://www.ullastrell.cat/actualitat/agenda/el-cafe-de-la-memoria-.html
CLASS:PUBLIC
END:VEVENT
END:VCALENDAR
