BEGIN:VCALENDAR
VERSION:2.0
CALSCALE:GREGORIAN
PRODID:-//Diputació de Barcelona//DibaCMS//EN
BEGIN:VEVENT
UID:3604
DTSTAMP:20260422T121906
DTSTART:20180407T200000
DTEND:20180408T180000
SUMMARY:Exposició de les Banderes de Caramelles de Josep Palet
LOCATION:C/ Serra 37 08231 Ullastrell
METHOD:PUBLISH
X-WR-CALNAME:ullastrell@ullastrell.cat
X-WR-TIMEZONE:Europe/Madrid
DESCRIPTION:Fetes pel Josep Palet. Recorregut per la història de la nostra tradició

Inauguració de l'exposició amb concert de la Núria Palet i Xavi Algans a les 20:00h. a l'Espai Cultural El Progrés

URI:https://www.ullastrell.cat/actualitat/agenda/exposicio-de-les-banderes-de-caramelles-de-josep-palet.html
CLASS:PUBLIC
END:VEVENT
END:VCALENDAR
