BEGIN:VCALENDAR
VERSION:2.0
CALSCALE:GREGORIAN
PRODID:-//Diputació de Barcelona//DibaCMS//EN
BEGIN:VEVENT
UID:3619
DTSTAMP:20260422T115920
DTSTART:20180407T173000
DTEND:20180407T173000
SUMMARY:Assaig general Caramelles
LOCATION:C/ Josep Fornell, s/n 08231 Ullastrell
METHOD:PUBLISH
X-WR-CALNAME:ullastrell@ullastrell.cat
X-WR-TIMEZONE:Europe/Madrid
DESCRIPTION:Si vols cantar les caramelles diumenge, vine aquest dissabte a l'assaig general que farem petits i grans!

A l'Altell del Casal.

URI:https://www.ullastrell.cat/actualitat/agenda/3619-assaig-general-caramelles.html
CLASS:PUBLIC
END:VEVENT
END:VCALENDAR
