BEGIN:VCALENDAR
VERSION:2.0
CALSCALE:GREGORIAN
PRODID:-//Diputació de Barcelona//DibaCMS//EN
BEGIN:VEVENT
UID:3620
DTSTAMP:20260423T035303
DTSTART:20180408T100000
DTEND:20180408T200000
SUMMARY:Festa de la Gent Gran
LOCATION:
METHOD:PUBLISH
X-WR-CALNAME:ullastrell@ullastrell.cat
X-WR-TIMEZONE:Europe/Madrid
DESCRIPTION:Per Pasqüetes, Ullastrell ret homenatge a la gent gran del poble. Un diumenge amb moltes activitats pensades per ells, per que en gaudeixin força!

URI:https://www.ullastrell.cat/actualitat/agenda/3620-festa-de-la-gent-gran.html
CLASS:PUBLIC
END:VEVENT
END:VCALENDAR
