BEGIN:VCALENDAR
VERSION:2.0
CALSCALE:GREGORIAN
PRODID:-//Diputació de Barcelona//DibaCMS//EN
BEGIN:VEVENT
UID:3621
DTSTAMP:20260422T233353
DTSTART:20180408T173000
DTEND:20180408T173000
SUMMARY:Esbart Dansaire Sant Martí de Barcelona
LOCATION:C/ Josep Fornell, s/n 08231 Ullastrell
METHOD:PUBLISH
X-WR-CALNAME:ullastrell@ullastrell.cat
X-WR-TIMEZONE:Europe/Madrid
DESCRIPTION:Veniu a gaudir de l'Esbart Sant Martí de Barcelona que ens presenten l'espectacle SOM!

URI:https://www.ullastrell.cat/actualitat/agenda/esbart-dansaire-sant-marti-de-barcelona.html
CLASS:PUBLIC
END:VEVENT
END:VCALENDAR
