BEGIN:VCALENDAR
VERSION:2.0
CALSCALE:GREGORIAN
PRODID:-//Diputació de Barcelona//DibaCMS//EN
BEGIN:VEVENT
UID:3622
DTSTAMP:20260422T135233
DTSTART:20180410T203000
DTEND:20180410T203000
SUMMARY:REUNIÓ DE BARRI - Ca n'Amat - La Vall
LOCATION:C/ Serra, 17 08231 Ullastrell
METHOD:PUBLISH
X-WR-CALNAME:ullastrell@ullastrell.cat
X-WR-TIMEZONE:Europe/Madrid
DESCRIPTION:Amb la voluntat d'acostar el govern als veïns, es van crear les Reunions de Barri, aquest dimarts parlarem amb els veïns/es de Ca n'Amat - La Vall.

URI:https://www.ullastrell.cat/actualitat/agenda/3622-reunio-de-barri-ca-namat-la-vall.html
CLASS:PUBLIC
END:VEVENT
END:VCALENDAR
