BEGIN:VCALENDAR
VERSION:2.0
CALSCALE:GREGORIAN
PRODID:-//Diputació de Barcelona//DibaCMS//EN
BEGIN:VEVENT
UID:3623
DTSTAMP:20260423T034941
DTSTART:20180413T210000
DTEND:20180413T210000
SUMMARY:CINEFÒRUM: El cielo abierto
LOCATION:C/ Josep Fornell, s/n 08231 Ullastrell
METHOD:PUBLISH
X-WR-CALNAME:ullastrell@ullastrell.cat
X-WR-TIMEZONE:Europe/Madrid
DESCRIPTION:La Parròquia Santa Maria d'Ullastrell conjuntament amb el Grup de Solidaritat Òscar Romero de Terrassa us conviden a assisitir al passi de la pel.lícula-documental "El cielo abierto".

I seguidament es farà un col.loqui sobre el Bisbe beat Òscar Romero.

URI:https://www.ullastrell.cat/actualitat/agenda/cineforum-el-cielo-abierto.html
CLASS:PUBLIC
END:VEVENT
END:VCALENDAR
