BEGIN:VCALENDAR
VERSION:2.0
CALSCALE:GREGORIAN
PRODID:-//Diputació de Barcelona//DibaCMS//EN
BEGIN:VEVENT
UID:3625
DTSTAMP:20260422T221938
DTSTART:20180418T173000
DTEND:20170418T181000
SUMMARY:Conte va, conte ve... amb Moi Aznar
LOCATION:C/ Josep Fornell, s/n 08231 Ullastrell
METHOD:PUBLISH
X-WR-CALNAME:ullastrell@ullastrell.cat
X-WR-TIMEZONE:Europe/Madrid
DESCRIPTION:Veniu a gaudir del conte musicat "Per què no surt el sol avui?" amb Moi Aznar.

Públic familiar (1a 4 anys)

URI:https://www.ullastrell.cat/actualitat/agenda/conte-va-conte-ve-amb-moi-aznar.html
CLASS:PUBLIC
END:VEVENT
END:VCALENDAR
