BEGIN:VCALENDAR
VERSION:2.0
CALSCALE:GREGORIAN
PRODID:-//Diputació de Barcelona//DibaCMS//EN
BEGIN:VEVENT
UID:3626
DTSTAMP:20260422T123206
DTSTART:20180414T120000
DTEND:20180415T140000
SUMMARY:EXPOSICIÓ: Banderes de Caramelles del Josep Palet
LOCATION:C/ Serra 37 08231 Ullastrell
METHOD:PUBLISH
X-WR-CALNAME:ullastrell@ullastrell.cat
X-WR-TIMEZONE:Europe/Madrid
DESCRIPTION:Atesa la bona acollida de l'Exposició de Banderes de Caramelles del Josep Palet, a l'Espai d'El Progrés, s'ha decidit allargar-la un cap de setmana més.

URI:https://www.ullastrell.cat/actualitat/agenda/-httpwwwullastrellcatactualitatagendaexposicio-banderes-de-caramelles-del-josep-palethtml.html
CLASS:PUBLIC
END:VEVENT
END:VCALENDAR
