BEGIN:VCALENDAR
VERSION:2.0
CALSCALE:GREGORIAN
PRODID:-//Diputació de Barcelona//DibaCMS//EN
BEGIN:VEVENT
UID:3627
DTSTAMP:20260422T093656
DTSTART:20180527T120000
DTEND:20180527T120000
SUMMARY:37ª Cursa ciclista del Llobregat: NAVÀS - SANT BOI
LOCATION:
METHOD:PUBLISH
X-WR-CALNAME:ullastrell@ullastrell.cat
X-WR-TIMEZONE:Europe/Madrid
DESCRIPTION:A les 12h del migdia passarà la Cursa Ciclista del Llobregat per Ullastrell!

Vindran de Sta. Maria de Villalba i passaran per la carretera direcció l'Empalme girant cap a Martorell.

Mentre passi la cursa hi haurà restriccions de trànsit.

URI:https://www.ullastrell.cat/actualitat/agenda/37a-cursa-ciclista-del-llobregat-navas-sant-boi.html
CLASS:PUBLIC
END:VEVENT
END:VCALENDAR
