BEGIN:VCALENDAR
VERSION:2.0
CALSCALE:GREGORIAN
PRODID:-//Diputació de Barcelona//DibaCMS//EN
BEGIN:VEVENT
UID:3629
DTSTAMP:20260422T192249
DTSTART:20180418T173000
DTEND:20180418T181000
SUMMARY:Conte va, conte ve,... amb Moi Aznar
LOCATION:C/ Josep Fornell, s/n 08231 Ullastrell
METHOD:PUBLISH
X-WR-CALNAME:ullastrell@ullastrell.cat
X-WR-TIMEZONE:Europe/Madrid
DESCRIPTION:Veniu a gaudir del conte musicat "Per què no surt el sol avui?"

Per a públic familiar (1 a 4 anys)

Us esperem a la biblioteca!!

URI:https://www.ullastrell.cat/actualitat/agenda/3629-conte-va-conte-ve-amb-moi-aznar.html
CLASS:PUBLIC
END:VEVENT
END:VCALENDAR
