BEGIN:VCALENDAR
VERSION:2.0
CALSCALE:GREGORIAN
PRODID:-//Diputació de Barcelona//DibaCMS//EN
BEGIN:VEVENT
UID:3632
DTSTAMP:20260422T204150
DTSTART:20180423T160000
DTEND:20180423T200000
SUMMARY:Diada de Sant Jordi
LOCATION:Carrer Serra 
METHOD:PUBLISH
X-WR-CALNAME:ullastrell@ullastrell.cat
X-WR-TIMEZONE:Europe/Madrid
DESCRIPTION:La tarda de la diada de Sant Jordi tindrem parades de llibres i roses i entrega de premis del concurs de punts de llibre de la Biblioteca i instagram de Serralavella

URI:https://www.ullastrell.cat/actualitat/agenda/3632-diada-de-sant-jordi.html
CLASS:PUBLIC
END:VEVENT
END:VCALENDAR
