BEGIN:VCALENDAR
VERSION:2.0
CALSCALE:GREGORIAN
PRODID:-//Diputació de Barcelona//DibaCMS//EN
BEGIN:VEVENT
UID:3634
DTSTAMP:20260422T220109
DTSTART:20180424T203000
DTEND:20180424T213000
SUMMARY:Reunió de Barri - TURÓ DE CAN PALET
LOCATION:C/ Serra, 17 08231 Ullastrell
METHOD:PUBLISH
X-WR-CALNAME:ullastrell@ullastrell.cat
X-WR-TIMEZONE:Europe/Madrid
DESCRIPTION:Queden convocats tots els veins/es del barri del Turó de Can Palet per la pròxima Reunió de barri que exepcionalment es farà a l'Ajuntament d'Ullastrell on tractarem en major part el tema:


	Espai de reciclatge domèstic (Punt verd)


*Per motiu de possible afectació visual també s’ha convidat als veïns/es del primer tram del carrer Sant Jordi que dona al torrent.

Per qualsevol dubte o consulta us podeu posar en contacte al telèfon 93.788.72.62 o al mail ullastrell@ullastrell.cat

URI:https://www.ullastrell.cat/actualitat/agenda/reunio-de-barri-turo-de-can-palet.html
CLASS:PUBLIC
END:VEVENT
END:VCALENDAR
