BEGIN:VCALENDAR
VERSION:2.0
CALSCALE:GREGORIAN
PRODID:-//Diputació de Barcelona//DibaCMS//EN
BEGIN:VEVENT
UID:3650
DTSTAMP:20260423T050153
DTSTART:20180509T210000
DTEND:20180509T220000
SUMMARY:Trobada de joves
LOCATION:Plaça de les escoles, 1 08231 Ullastrell
METHOD:PUBLISH
X-WR-CALNAME:ullastrell@ullastrell.cat
X-WR-TIMEZONE:Europe/Madrid
DESCRIPTION:Digues la teva per a la programació d'activitats per a joves d'Ullastrell

 

Org. Regidoria de Joventut

URI:https://www.ullastrell.cat/actualitat/agenda/trobada-de-joves.html
CLASS:PUBLIC
END:VEVENT
END:VCALENDAR
