BEGIN:VCALENDAR
VERSION:2.0
CALSCALE:GREGORIAN
PRODID:-//Diputació de Barcelona//DibaCMS//EN
BEGIN:VEVENT
UID:3653
DTSTAMP:20260422T145943
DTSTART:20180513T120000
DTEND:20180513T130000
SUMMARY:Exhibició de vehicles d'època
LOCATION:
METHOD:PUBLISH
X-WR-CALNAME:ullastrell@ullastrell.cat
X-WR-TIMEZONE:Europe/Madrid
DESCRIPTION:Provinents de la Fira Modernista de Terrassa el diumenge pujaran a Ullastrell i seran exposats al llarg del carrer Serra motos i cotxes d'època.

URI:https://www.ullastrell.cat/actualitat/agenda/3653-exhibicio-de-vehicles-depoca.html
CLASS:PUBLIC
END:VEVENT
END:VCALENDAR
