BEGIN:VCALENDAR
VERSION:2.0
CALSCALE:GREGORIAN
PRODID:-//Diputació de Barcelona//DibaCMS//EN
BEGIN:VEVENT
UID:3654
DTSTAMP:20260422T123447
DTSTART:20180516T000000
DTEND:20180516T000000
SUMMARY:Sortida al Circ du Solei
LOCATION:
METHOD:PUBLISH
X-WR-CALNAME:ullastrell@ullastrell.cat
X-WR-TIMEZONE:Europe/Madrid
DESCRIPTION:La Colla de la Gent Gran anirà a veure l'espectacle del Circ du Solei

URI:https://www.ullastrell.cat/actualitat/agenda/sortida-al-circ-du-solei.html
CLASS:PUBLIC
END:VEVENT
END:VCALENDAR
