BEGIN:VCALENDAR
VERSION:2.0
CALSCALE:GREGORIAN
PRODID:-//Diputació de Barcelona//DibaCMS//EN
BEGIN:VEVENT
UID:3664
DTSTAMP:20260422T093755
DTSTART:20180531T173000
DTEND:20180531T183000
SUMMARY:Consells de Seguretat al domicili i estafes més habituals
LOCATION:C/ Josep Fornell, s/n 08231 Ullastrell
METHOD:PUBLISH
X-WR-CALNAME:ullastrell@ullastrell.cat
X-WR-TIMEZONE:Europe/Madrid
DESCRIPTION:La Policia de la Generalitat - Mossos d’Esquadra us convoquem a una sessió informativa sobre consells de seguretat al domicili.

URI:https://www.ullastrell.cat/actualitat/agenda/consells-de-seguretat-al-domicili-i-estafes-mes-habituals.html
CLASS:PUBLIC
END:VEVENT
END:VCALENDAR
