BEGIN:VCALENDAR
VERSION:2.0
CALSCALE:GREGORIAN
PRODID:-//Diputació de Barcelona//DibaCMS//EN
BEGIN:VEVENT
UID:3666
DTSTAMP:20260422T092148
DTSTART:20180527T110000
DTEND:20180527T140000
SUMMARY:Vermut - Audició de vinils: The Beatles
LOCATION:C/ Serra 37 08231 Ullastrell
METHOD:PUBLISH
X-WR-CALNAME:ullastrell@ullastrell.cat
X-WR-TIMEZONE:Europe/Madrid
DESCRIPTION:Vine a redescobrir la banda més coneguda de Liverpool.

Org. U-sònica

URI:https://www.ullastrell.cat/actualitat/agenda/vermut-audicio-de-vinils-the-beatles.html
CLASS:PUBLIC
END:VEVENT
END:VCALENDAR
