BEGIN:VCALENDAR
VERSION:2.0
CALSCALE:GREGORIAN
PRODID:-//Diputació de Barcelona//DibaCMS//EN
BEGIN:VEVENT
UID:3667
DTSTAMP:20260422T105331
DTSTART:20180601T203000
DTEND:20180601T203000
SUMMARY:Tu Fas Ullastrell! 
LOCATION:
METHOD:PUBLISH
X-WR-CALNAME:ullastrell@ullastrell.cat
X-WR-TIMEZONE:Europe/Madrid
DESCRIPTION:XIª edició dels premis promoguts per la secció local d'ERC

URI:https://www.ullastrell.cat/actualitat/agenda/tu-fas-ullastrell-.html
CLASS:PUBLIC
END:VEVENT
END:VCALENDAR
