BEGIN:VCALENDAR
VERSION:2.0
CALSCALE:GREGORIAN
PRODID:-//Diputació de Barcelona//DibaCMS//EN
BEGIN:VEVENT
UID:3668
DTSTAMP:20260422T132859
DTSTART:20180606T173000
DTEND:20180606T183000
SUMMARY:Conte va, conte ve... Menu de pirates
LOCATION:C/ Josep Fornell, s/n 08231 Ullastrell
METHOD:PUBLISH
X-WR-CALNAME:ullastrell@ullastrell.cat
X-WR-TIMEZONE:Europe/Madrid
DESCRIPTION:Amb Anna Garcia.

50 min

Per a públic familiar

URI:https://www.ullastrell.cat/actualitat/agenda/conte-va-conte-ve-menu-de-pirates.html
CLASS:PUBLIC
END:VEVENT
END:VCALENDAR
