BEGIN:VCALENDAR
VERSION:2.0
CALSCALE:GREGORIAN
PRODID:-//Diputació de Barcelona//DibaCMS//EN
BEGIN:VEVENT
UID:3670
DTSTAMP:20260422T103418
DTSTART:20180603T180000
DTEND:20180603T200000
SUMMARY:Concert de Corpus
LOCATION:Plaça de l'església, 2 08231 Ullastrell
METHOD:PUBLISH
X-WR-CALNAME:ullastrell@ullastrell.cat
X-WR-TIMEZONE:Europe/Madrid
DESCRIPTION:La Coral d’Ullastrell participa un any més a la Missa de Corpus i en acabar oferirà un petit concert.

 



URI:https://www.ullastrell.cat/actualitat/agenda/concert-de-corpus.html
CLASS:PUBLIC
END:VEVENT
END:VCALENDAR
