BEGIN:VCALENDAR
VERSION:2.0
CALSCALE:GREGORIAN
PRODID:-//Diputació de Barcelona//DibaCMS//EN
BEGIN:VEVENT
UID:3672
DTSTAMP:20260423T051500
DTSTART:20180606T190000
DTEND:20180606T200000
SUMMARY:Cafè de la memòria
LOCATION:
METHOD:PUBLISH
X-WR-CALNAME:ullastrell@ullastrell.cat
X-WR-TIMEZONE:Europe/Madrid
DESCRIPTION:Aques més l'entitat MoU (Memòria Oral d'Ullastrell) parlarà de...
P {
	MARGIN-BOTTOM: 0px; MARGIN-TOP: 0px
}

BODY {
	SCROLLBAR-HIGHLIGHT-COLOR: #adadad; SCROLLBAR-TRACK-COLOR: #ffffff; SCROLLBAR-BASE-COLOR: #adadad; SCROLLBAR-ARROW-COLOR: #d6d6d6; SCROLLBAR-DARKSHADOW-COLOR: #ffffff
}




"Records i inicis de la tradició teatral a Ullastrell"

 

A l'Altell del Casal


URI:https://www.ullastrell.cat/actualitat/agenda/cafe-de-la-memoria.html
CLASS:PUBLIC
END:VEVENT
END:VCALENDAR
