BEGIN:VCALENDAR
VERSION:2.0
CALSCALE:GREGORIAN
PRODID:-//Diputació de Barcelona//DibaCMS//EN
BEGIN:VEVENT
UID:3676
DTSTAMP:20260422T174832
DTSTART:20180612T190000
DTEND:20180612T200000
SUMMARY:XERRADA: Els limits i jo
LOCATION:Camí de Can Font, s/n 08231 Ullastrell
METHOD:PUBLISH
X-WR-CALNAME:ullastrell@ullastrell.cat
X-WR-TIMEZONE:Europe/Madrid
DESCRIPTION:Què són els límits? Com són els límits per mi? Jo en tinc o no? Com visc jo els límits? Els necessiten els meus fills/es?

URI:https://www.ullastrell.cat/actualitat/agenda/xerrada-els-limits-i-jo.html
CLASS:PUBLIC
END:VEVENT
END:VCALENDAR
