BEGIN:VCALENDAR
VERSION:2.0
CALSCALE:GREGORIAN
PRODID:-//Diputació de Barcelona//DibaCMS//EN
BEGIN:VEVENT
UID:3677
DTSTAMP:20260422T220214
DTSTART:20180618T200000
DTEND:20180618T210000
SUMMARY:Reunió de barri: NOU - BONAVISTA
LOCATION:
METHOD:PUBLISH
X-WR-CALNAME:ullastrell@ullastrell.cat
X-WR-TIMEZONE:Europe/Madrid
DESCRIPTION:Amb la voluntat d’escoltar de prop les diferents opinions dels veïns, propostes, crítiques, idees, suggerències, queixes,... El Govern municipal va engegar les “Reunions de Barri”.

URI:https://www.ullastrell.cat/actualitat/agenda/reunio-de-barri-nou-bonavista.html
CLASS:PUBLIC
END:VEVENT
END:VCALENDAR
