BEGIN:VCALENDAR
VERSION:2.0
CALSCALE:GREGORIAN
PRODID:-//Diputació de Barcelona//DibaCMS//EN
BEGIN:VEVENT
UID:3680
DTSTAMP:20260422T223253
DTSTART:20180623T210000
DTEND:20180623T223000
SUMMARY:Arribada de La Flama del Canigó
LOCATION:
METHOD:PUBLISH
X-WR-CALNAME:ullastrell@ullastrell.cat
X-WR-TIMEZONE:Europe/Madrid
DESCRIPTION:Com cada any, a les 21h. esperarem en el Padró l'arribada de La Flama del Canigó per encendre la foguera de Sant Joan i donar la benvinguda a l'estiu.

URI:https://www.ullastrell.cat/actualitat/agenda/3680-arribada-de-la-flama-del-canigo.html
CLASS:PUBLIC
END:VEVENT
END:VCALENDAR
