BEGIN:VCALENDAR
VERSION:2.0
CALSCALE:GREGORIAN
PRODID:-//Diputació de Barcelona//DibaCMS//EN
BEGIN:VEVENT
UID:3681
DTSTAMP:20260422T174717
DTSTART:20180615T180000
DTEND:20180615T200000
SUMMARY:ZONA ESPORTIVA: Posada en comú dels tallers
LOCATION:Al costat de la Pista 
METHOD:PUBLISH
X-WR-CALNAME:ullastrell@ullastrell.cat
X-WR-TIMEZONE:Europe/Madrid
DESCRIPTION:Posada en comú del recull dels Tallers de participació de la Zona Esportiva.

 

URI:https://www.ullastrell.cat/actualitat/agenda/zona-esportiva-posada-en-comu-dels-tallers.html
CLASS:PUBLIC
END:VEVENT
END:VCALENDAR
