BEGIN:VCALENDAR
VERSION:2.0
CALSCALE:GREGORIAN
PRODID:-//Diputació de Barcelona//DibaCMS//EN
BEGIN:VEVENT
UID:3694
DTSTAMP:20260422T135449
DTSTART:20180627T180000
DTEND:20180627T200000
SUMMARY:Xerrada Accés a l'habitatge per a joves. Assessorament.
LOCATION:Plaça de les escoles, 1 08231 Ullastrell
METHOD:PUBLISH
X-WR-CALNAME:ullastrell@ullastrell.cat
X-WR-TIMEZONE:Europe/Madrid
DESCRIPTION:Assessorament en termes d'habitatge juvenil: Ajuts pel pagament de lloguer, habitatge públic, masoveria urbana, ...

URI:https://www.ullastrell.cat/actualitat/agenda/xerrada-acces-a-lhabitatge-per-a-joves-assessorament.html
CLASS:PUBLIC
END:VEVENT
END:VCALENDAR
