BEGIN:VCALENDAR
VERSION:2.0
CALSCALE:GREGORIAN
PRODID:-//Diputació de Barcelona//DibaCMS//EN
BEGIN:VEVENT
UID:3695
DTSTAMP:20260423T183746
DTSTART:20180706T100000
DTEND:20180706T130000
SUMMARY:TALLER D'HERBES REMEIERES
LOCATION:C/ Josep Fornell, s/n 08231 Ullastrell
METHOD:PUBLISH
X-WR-CALNAME:ullastrell@ullastrell.cat
X-WR-TIMEZONE:Europe/Madrid
DESCRIPTION:Recuperació i actualització d'herbes remeieres de Catalunya a Ullastrell.

URI:https://www.ullastrell.cat/actualitat/agenda/taller-dherbes-remeieres.html
CLASS:PUBLIC
END:VEVENT
END:VCALENDAR
