BEGIN:VCALENDAR
VERSION:2.0
CALSCALE:GREGORIAN
PRODID:-//Diputació de Barcelona//DibaCMS//EN
BEGIN:VEVENT
UID:3698
DTSTAMP:20260422T174550
DTSTART:20180627T200000
DTEND:20180627T203000
SUMMARY:Ple extraordinari
LOCATION:
METHOD:PUBLISH
X-WR-CALNAME:ullastrell@ullastrell.cat
X-WR-TIMEZONE:Europe/Madrid
DESCRIPTION:Convocatòria extraordinaria del ple de l'Ajuntament d'Ullastrell

 

URI:https://www.ullastrell.cat/actualitat/agenda/3698-ple-extraordinari.html
CLASS:PUBLIC
END:VEVENT
END:VCALENDAR
