BEGIN:VCALENDAR
VERSION:2.0
CALSCALE:GREGORIAN
PRODID:-//Diputació de Barcelona//DibaCMS//EN
BEGIN:VEVENT
UID:3699
DTSTAMP:20260422T091330
DTSTART:20180705T213000
DTEND:20180705T230000
SUMMARY:CICLE CONCERTS TERRASSA CASAL
LOCATION:C/ Josep Fornell, s/n 08231 Ullastrell
METHOD:PUBLISH
X-WR-CALNAME:ullastrell@ullastrell.cat
X-WR-TIMEZONE:Europe/Madrid
DESCRIPTION:Comença el cicle de música "En directe a les estrelles", tots els dijous de juliol a la terrasseta del Casal

Música en viu. Entrada lliure

URI:https://www.ullastrell.cat/actualitat/agenda/cicle-concerts-terrassa-casal.html
CLASS:PUBLIC
END:VEVENT
END:VCALENDAR
