BEGIN:VCALENDAR
VERSION:2.0
CALSCALE:GREGORIAN
PRODID:-//Diputació de Barcelona//DibaCMS//EN
BEGIN:VEVENT
UID:3706
DTSTAMP:20260422T235724
DTSTART:20180726T213000
DTEND:20180726T213000
SUMMARY:En directe a les estrelles... JOHN DUBUCLET amb THE JAZZ CATS
LOCATION:C/ Josep Fornell, s/n 08231 Ullastrell
METHOD:PUBLISH
X-WR-CALNAME:ullastrell@ullastrell.cat
X-WR-TIMEZONE:Europe/Madrid
DESCRIPTION:Cicle musical a la terrasseta del Casal

Entrada lliure

URI:https://www.ullastrell.cat/actualitat/agenda/en-directe-a-les-estrelles-john-dubuclet-amb-the-jazz-cats.html
CLASS:PUBLIC
END:VEVENT
END:VCALENDAR
