BEGIN:VCALENDAR
VERSION:2.0
CALSCALE:GREGORIAN
PRODID:-//Diputació de Barcelona//DibaCMS//EN
BEGIN:VEVENT
UID:3707
DTSTAMP:20260422T091231
DTSTART:20180714T090000
DTEND:20180714T130000
SUMMARY:TALLER JOVE: Fotografia digital multicàmara
LOCATION:Plaça de les escoles, 1 08231 Ullastrell
METHOD:PUBLISH
X-WR-CALNAME:ullastrell@ullastrell.cat
X-WR-TIMEZONE:Europe/Madrid
DESCRIPTION:Adreçat a joves de 13 a 16 anys  a càrrec de l'empresa local Moviedron

URI:https://www.ullastrell.cat/actualitat/agenda/taller-jove-fotografia-digital-multicamara.html
CLASS:PUBLIC
END:VEVENT
END:VCALENDAR
