BEGIN:VCALENDAR
VERSION:2.0
CALSCALE:GREGORIAN
PRODID:-//Diputació de Barcelona//DibaCMS//EN
BEGIN:VEVENT
UID:3708
DTSTAMP:20260423T051239
DTSTART:20180721T090000
DTEND:20180721T130000
SUMMARY:TALLER JOVE: Video aeri amb Drons
LOCATION:Plaça de les escoles, 1 08231 Ullastrell
METHOD:PUBLISH
X-WR-CALNAME:ullastrell@ullastrell.cat
X-WR-TIMEZONE:Europe/Madrid
DESCRIPTION:Adreçat a joves de 13 a 16 anys  a càrrec de l'empresa local Moviedron

URI:https://www.ullastrell.cat/actualitat/agenda/taller-jove-video-aeri-amb-drons.html
CLASS:PUBLIC
END:VEVENT
END:VCALENDAR
